BEGIN:VCALENDAR
VERSION:2.0
PRODID:spatie/icalendar-generator
DESCRIPTION:Events from PatientsCann UK®
X-WR-CALDESC:Events from PatientsCann UK®
REFRESH-INTERVAL;VALUE=DURATION:PT1440M
X-PUBLISHED-TTL:PT1440M
BEGIN:VTIMEZONE
TZID:Etc/GMT+0
BEGIN:STANDARD
DTSTART:20240116T120000Z
TZOFFSETFROM:+0000
TZOFFSETTO:+0000
END:STANDARD
END:VTIMEZONE
BEGIN:VTIMEZONE
TZID:UTC
BEGIN:STANDARD
DTSTART:20250725T104543Z
TZOFFSETFROM:+0000
TZOFFSETTO:+0000
END:STANDARD
END:VTIMEZONE
BEGIN:VEVENT
UID:21-11
DTSTAMP:20260421T104543Z
SUMMARY:Chillin' Rooms Workshop
LOCATION:Chillin\\' Rooms Liverpool Holt Rd  Liverpool  L7 2PL
ORGANIZER;CN=PatientsCann UK:MAILTO:info@patientscann.org.uk
DTSTART;TZID=Etc/GMT+0:20241012T120000
DTEND;TZID=Etc/GMT+0:20241012T170000
X-ALT-DESC;FMTTYPE=TEXT/HTML:<p>Join us at The Chillin’ Rooms in Liverpoo
 l for an enlightening and engaging Medical Cannabis Roadshow Pop-Up\, host
 ed by PatientsCann UK.</p>\n
CATEGORIES:Medical Cannabis Roadshow,  Medical Cannabis
URL;VALUE=URI:https://patientscann.org.uk/mc-events/chillin-rooms-workshop/
METHOD:PUBLISH
END:VEVENT
END:VCALENDAR